Workbook

Sheet EMI
B2: Enter the loan amount -> | C2: 5000000
B3: Enter the Rate of Interest-> | C3: 7.5
B4: Enter Tenure in months-> | C4: 180 | E4: No. of Years x 12
B5: Your suggestive EMI | C5: =(C2*(C3/1200)*(POWER((1+(C3/1200)),180)))/((POWER((1+(C3/1200)),180))-1) -> 46350.618 | E5: Do not change this row

Sheet Repay Schedule
A1: Installment No. | B1: Date | C1: Opening Balance | D1: EMI | E1: Interest | F1: Principal | G1: Loan Outstanding
A2: 1 | C2: =EMI!$C$2 -> 5000000 | D2: =EMI!$C$5 -> 46350.618 | E2: =C2*(EMI!$C$3/(12*100)) -> 31250 | F2: =$D2-$E2 -> 15100.618 | G2: =$C2-$F2 -> 4984899.4
A3: 2 | C3: =$C2-$F2 -> 4984899.4 | D3: =EMI!$C$5 -> 46350.618 | E3: =C3*(EMI!$C$3/(12*100)) -> 31155.621 | F3: =$D3-$E3 -> 15194.997 | G3: =$C3-$F3 -> 4969704.4
A4: 3 | C4: =$C3-$F3 -> 4969704.4 | D4: =EMI!$C$5 -> 46350.618 | E4: =(0.075/12)*C4 -> 31060.652 | F4: =$D4-$E4 -> 15289.966 | G4: =$C4-$F4 -> 4954414.4
A5: 4 | C5: =$C4-$F4 -> 4954414.4 | D5: =EMI!$C$5 -> 46350.618 | E5: =(0.075/12)*C5 -> 30965.09 | F5: =$D5-$E5 -> 15385.528 | G5: =$C5-$F5 -> 4939028.9
A6: 5 | C6: =$C5-$F5 -> 4939028.9 | D6: =EMI!$C$5 -> 46350.618 | E6: =(0.075/12)*C6 -> 30868.931 | F6: =$D6-$E6 -> 15481.687 | G6: =$C6-$F6 -> 4923547.2
A7: 6 | C7: =$C6-$F6 -> 4923547.2 | D7: =EMI!$C$5 -> 46350.618 | E7: =(0.075/12)*C7 -> 30772.17 | F7: =$D7-$E7 -> 15578.448 | G7: =$C7-$F7 -> 4907968.8
A8: 7 | C8: =$C7-$F7 -> 4907968.8 | D8: =EMI!$C$5 -> 46350.618 | E8: =(0.075/12)*C8 -> 30674.805 | F8: =$D8-$E8 -> 15675.813 | G8: =$C8-$F8 -> 4892292.9
A9: 8 | C9: =$C8-$F8 -> 4892292.9 | D9: =EMI!$C$5 -> 46350.618 | E9: =(0.075/12)*C9 -> 30576.831 | F9: =$D9-$E9 -> 15773.787 | G9: =$C9-$F9 -> 4876519.2
A10: 9 | C10: =$C9-$F9 -> 4876519.2 | D10: =EMI!$C$5 -> 46350.618 | E10: =(0.075/12)*C10 -> 30478.245 | F10: =$D10-$E10 -> 15872.373 | G10: =$C10-$F10 -> 4860646.8
A11: 10 | C11: =$C10-$F10 -> 4860646.8 | D11: =EMI!$C$5 -> 46350.618 | E11: =(0.075/12)*C11 -> 30379.042 | F11: =$D11-$E11 -> 15971.576 | G11: =$C11-$F11 -> 4844675.2
A12: 11 | C12: =$C11-$F11 -> 4844675.2 | D12: =EMI!$C$5 -> 46350.618 | E12: =(0.075/12)*C12 -> 30279.22 | F12: =$D12-$E12 -> 16071.398 | G12: =$C12-$F12 -> 4828603.8
A13: 12 | C13: =$C12-$F12 -> 4828603.8 | D13: =EMI!$C$5 -> 46350.618 | E13: =(0.075/12)*C13 -> 30178.774 | F13: =$D13-$E13 -> 16171.844 | G13: =$C13-$F13 -> 4812432
A14: 13 | C14: =$C13-$F13 -> 4812432 | D14: =EMI!$C$5 -> 46350.618 | E14: =(0.075/12)*C14 -> 30077.7 | F14: =$D14-$E14 -> 16272.918 | G14: =$C14-$F14 -> 4796159
A15: 14 | C15: =$C14-$F14 -> 4796159 | D15: =EMI!$C$5 -> 46350.618 | E15: =(0.075/12)*C15 -> 29975.994 | F15: =$D15-$E15 -> 16374.624 | G15: =$C15-$F15 -> 4779784.4
... A181: 180 | C181: =$C180-$F180 -> 46062.726 | D181: =EMI!$C$5 -> 46350.618 | E181: =(0.075/12)*C181 -> 287.89204 | F181: =$D181-$E181 -> 46062.726 | G181: =$C181-$F181 -> 7.791823e-08
